Package: ASAFE Version: 1.33.0 Command: rm -rf ASAFE.buildbin-libdir && mkdir ASAFE.buildbin-libdir && E:\biocbuild\bbs-3.21-bioc\R\bin\R.exe CMD INSTALL --build --library=ASAFE.buildbin-libdir ASAFE_1.33.0.tar.gz StartedAt: 2025-02-21 07:34:07 -0500 (Fri, 21 Feb 2025) EndedAt: 2025-02-21 07:34:15 -0500 (Fri, 21 Feb 2025) EllapsedTime: 8.0 seconds RetCode: 0 Status: OK PackageFile: ASAFE_1.33.0.zip PackageFileSize: 590.1 KiB