Package: ASAFE Version: 1.33.0 Command: /home/biocbuild/R/R/bin/R CMD check --install=check:ASAFE.install-out.txt --library=/home/biocbuild/R/R/site-library --no-vignettes --timings ASAFE_1.33.0.tar.gz StartedAt: 2025-01-28 03:35:36 -0000 (Tue, 28 Jan 2025) EndedAt: 2025-01-28 03:35:55 -0000 (Tue, 28 Jan 2025) EllapsedTime: 19.0 seconds RetCode: 0 Status: OK CheckDir: ASAFE.Rcheck Warnings: 0