Package: ASAFE Version: 1.33.0 Command: /Library/Frameworks/R.framework/Resources/bin/R CMD INSTALL ASAFE StartedAt: 2025-02-20 15:00:55 -0500 (Thu, 20 Feb 2025) EndedAt: 2025-02-20 15:01:00 -0500 (Thu, 20 Feb 2025) EllapsedTime: 4.6 seconds RetCode: 0 Status: OK