Package: ASAFE Version: 1.33.0 Command: /Library/Frameworks/R.framework/Resources/bin/R CMD build --keep-empty-dirs --no-resave-data ASAFE StartedAt: 2025-02-20 15:34:14 -0500 (Thu, 20 Feb 2025) EndedAt: 2025-02-20 15:34:18 -0500 (Thu, 20 Feb 2025) EllapsedTime: 4.0 seconds RetCode: 0 Status: OK PackageFile: ASAFE_1.33.0.tar.gz PackageFileSize: 425.1 KiB