Package: APL Version: 1.11.2 Command: E:\biocbuild\bbs-3.21-bioc\R\bin\R.exe CMD INSTALL APL StartedAt: 2025-02-20 16:30:49 -0500 (Thu, 20 Feb 2025) EndedAt: 2025-02-20 16:31:52 -0500 (Thu, 20 Feb 2025) EllapsedTime: 63.4 seconds RetCode: 0 Status: OK