Package: APL Version: 1.11.2 Command: rm -rf APL.buildbin-libdir && mkdir APL.buildbin-libdir && E:\biocbuild\bbs-3.21-bioc\R\bin\R.exe CMD INSTALL --build --library=APL.buildbin-libdir APL_1.11.2.tar.gz StartedAt: 2025-02-22 07:51:14 -0500 (Sat, 22 Feb 2025) EndedAt: 2025-02-22 07:52:08 -0500 (Sat, 22 Feb 2025) EllapsedTime: 54.9 seconds RetCode: 0 Status: OK PackageFile: APL_1.11.2.zip PackageFileSize: 1.593 MiB