Package: APL Version: 1.11.2 Command: /home/biocbuild/bbs-3.21-bioc/R/bin/R CMD INSTALL APL StartedAt: 2025-02-20 15:52:24 -0500 (Thu, 20 Feb 2025) EndedAt: 2025-02-20 15:53:04 -0500 (Thu, 20 Feb 2025) EllapsedTime: 39.8 seconds RetCode: 0 Status: OK