Package: APL Version: 1.11.2 Command: /home/biocbuild/bbs-3.21-bioc/R/bin/R CMD check --install=check:APL.install-out.txt --library=/home/biocbuild/bbs-3.21-bioc/R/site-library --timings APL_1.11.2.tar.gz StartedAt: 2025-02-20 19:59:57 -0500 (Thu, 20 Feb 2025) EndedAt: 2025-02-20 20:07:21 -0500 (Thu, 20 Feb 2025) EllapsedTime: 444.8 seconds RetCode: 0 Status: OK CheckDir: APL.Rcheck Warnings: 0