Package: APL Version: 1.11.2 Command: /home/biocbuild/bbs-3.21-bioc/R/bin/R CMD build --keep-empty-dirs --no-resave-data APL StartedAt: 2025-02-20 16:26:38 -0500 (Thu, 20 Feb 2025) EndedAt: 2025-02-20 16:30:01 -0500 (Thu, 20 Feb 2025) EllapsedTime: 203.3 seconds RetCode: 0 Status: OK PackageFile: APL_1.11.2.tar.gz PackageFileSize: 2.354 MiB