Package: APL Version: 1.11.2 Command: /Library/Frameworks/R.framework/Resources/bin/R CMD build --keep-empty-dirs --no-resave-data APL StartedAt: 2025-02-21 15:53:40 -0500 (Fri, 21 Feb 2025) EndedAt: 2025-02-21 15:57:21 -0500 (Fri, 21 Feb 2025) EllapsedTime: 220.6 seconds RetCode: 0 Status: OK PackageFile: APL_1.11.2.tar.gz PackageFileSize: 2.436 MiB