Package: APL Version: 1.11.2 Command: /Library/Frameworks/R.framework/Resources/bin/R CMD INSTALL APL StartedAt: 2025-02-20 15:17:59 -0500 (Thu, 20 Feb 2025) EndedAt: 2025-02-20 15:18:17 -0500 (Thu, 20 Feb 2025) EllapsedTime: 17.2 seconds RetCode: 0 Status: OK