Package: APL Version: 1.11.2 Command: /Library/Frameworks/R.framework/Resources/bin/R CMD build --keep-empty-dirs --no-resave-data APL StartedAt: 2025-02-20 15:33:44 -0500 (Thu, 20 Feb 2025) EndedAt: 2025-02-20 15:35:13 -0500 (Thu, 20 Feb 2025) EllapsedTime: 89.0 seconds RetCode: 0 Status: OK PackageFile: APL_1.11.2.tar.gz PackageFileSize: 2.488 MiB