Package: APAlyzer Version: 1.21.0 Command: E:\biocbuild\bbs-3.21-bioc\R\bin\R.exe CMD INSTALL APAlyzer StartedAt: 2025-02-19 16:44:51 -0500 (Wed, 19 Feb 2025) EndedAt: 2025-02-19 16:45:39 -0500 (Wed, 19 Feb 2025) EllapsedTime: 47.7 seconds RetCode: 0 Status: OK