Package: ANF Version: 1.29.0 Command: chmod a+r ANF -R && E:\biocbuild\bbs-3.21-bioc\R\bin\R.exe CMD build --keep-empty-dirs --no-resave-data ANF StartedAt: 2025-02-19 17:13:09 -0500 (Wed, 19 Feb 2025) EndedAt: 2025-02-19 17:14:29 -0500 (Wed, 19 Feb 2025) EllapsedTime: 79.7 seconds RetCode: 0 Status: OK PackageFile: ANF_1.29.0.tar.gz PackageFileSize: 683.3 KiB