Package: ANF Version: 1.29.0 Command: /Library/Frameworks/R.framework/Resources/bin/R CMD check --install=check:ANF.install-out.txt --library=/Library/Frameworks/R.framework/Resources/library --no-vignettes --timings ANF_1.29.0.tar.gz StartedAt: 2025-02-19 18:03:27 -0500 (Wed, 19 Feb 2025) EndedAt: 2025-02-19 18:04:11 -0500 (Wed, 19 Feb 2025) EllapsedTime: 44.6 seconds RetCode: 0 Status: OK CheckDir: ANF.Rcheck Warnings: 0