Package: ANF Version: 1.29.0 Command: /Library/Frameworks/R.framework/Resources/bin/R CMD build --keep-empty-dirs --no-resave-data ANF StartedAt: 2025-02-19 15:33:04 -0500 (Wed, 19 Feb 2025) EndedAt: 2025-02-19 15:33:20 -0500 (Wed, 19 Feb 2025) EllapsedTime: 16.2 seconds RetCode: 0 Status: OK PackageFile: ANF_1.29.0.tar.gz PackageFileSize: 683.3 KiB