Package: ANF Version: 1.29.0 Command: rm -rf ANF.buildbin-libdir && mkdir ANF.buildbin-libdir && /Users/biocbuild/BBS/utils/build-universal.sh ANF_1.29.0.tar.gz /Library/Frameworks/R.framework/Resources/bin/R ANF.buildbin-libdir StartedAt: 2025-02-19 22:13:11 -0500 (Wed, 19 Feb 2025) EndedAt: 2025-02-19 22:13:15 -0500 (Wed, 19 Feb 2025) EllapsedTime: 4.1 seconds RetCode: 0 Status: OK PackageFile: ANF_1.29.0.tgz PackageFileSize: 252.1 KiB