Package: ANCOMBC Version: 2.9.1 Command: E:\biocbuild\bbs-3.21-bioc\R\bin\R.exe CMD INSTALL ANCOMBC StartedAt: 2025-02-19 16:35:11 -0500 (Wed, 19 Feb 2025) EndedAt: 2025-02-19 16:35:41 -0500 (Wed, 19 Feb 2025) EllapsedTime: 29.6 seconds RetCode: 0 Status: OK