Package: AMOUNTAIN Version: 1.33.0 Command: /home/biocbuild/bbs-3.21-bioc/R/bin/R CMD check --install=check:AMOUNTAIN.install-out.txt --library=/home/biocbuild/bbs-3.21-bioc/R/site-library --timings AMOUNTAIN_1.33.0.tar.gz StartedAt: 2025-02-19 19:54:54 -0500 (Wed, 19 Feb 2025) EndedAt: 2025-02-19 19:55:21 -0500 (Wed, 19 Feb 2025) EllapsedTime: 27.0 seconds RetCode: 0 Status: OK CheckDir: AMOUNTAIN.Rcheck Warnings: 0