Package: AMARETTO Version: 1.23.0 Command: E:\biocbuild\bbs-3.21-bioc\R\bin\R.exe CMD INSTALL AMARETTO StartedAt: 2025-02-20 16:15:10 -0500 (Thu, 20 Feb 2025) EndedAt: 2025-02-20 16:16:14 -0500 (Thu, 20 Feb 2025) EllapsedTime: 64.7 seconds RetCode: 0 Status: OK