Package: AMARETTO Version: 1.23.0 Command: chmod a+r AMARETTO -R && E:\biocbuild\bbs-3.21-bioc\R\bin\R.exe CMD build --keep-empty-dirs --no-resave-data AMARETTO StartedAt: 2025-02-20 17:12:39 -0500 (Thu, 20 Feb 2025) EndedAt: 2025-02-20 17:14:18 -0500 (Thu, 20 Feb 2025) EllapsedTime: 98.8 seconds RetCode: 0 Status: OK PackageFile: AMARETTO_1.23.0.tar.gz PackageFileSize: 3.209 MiB