Package: AMARETTO Version: 1.23.0 Command: rm -rf AMARETTO.buildbin-libdir && mkdir AMARETTO.buildbin-libdir && E:\biocbuild\bbs-3.21-bioc\R\bin\R.exe CMD INSTALL --build --library=AMARETTO.buildbin-libdir AMARETTO_1.23.0.tar.gz StartedAt: 2025-02-21 07:31:56 -0500 (Fri, 21 Feb 2025) EndedAt: 2025-02-21 07:33:29 -0500 (Fri, 21 Feb 2025) EllapsedTime: 92.9 seconds RetCode: 0 Status: OK PackageFile: AMARETTO_1.23.0.zip PackageFileSize: 3.422 MiB