Package: AMARETTO Version: 1.23.0 Command: /home/biocbuild/bbs-3.21-bioc/R/bin/R CMD check --install=check:AMARETTO.install-out.txt --library=/home/biocbuild/bbs-3.21-bioc/R/site-library --timings AMARETTO_1.23.0.tar.gz StartedAt: 2025-02-20 19:56:30 -0500 (Thu, 20 Feb 2025) EndedAt: 2025-02-20 20:01:10 -0500 (Thu, 20 Feb 2025) EllapsedTime: 279.5 seconds RetCode: 0 Status: WARNINGS CheckDir: AMARETTO.Rcheck Warnings: 1