Package: AMARETTO Version: 1.23.0 Command: /home/biocbuild/bbs-3.21-bioc/R/bin/R CMD build --keep-empty-dirs --no-resave-data AMARETTO StartedAt: 2025-02-20 16:25:15 -0500 (Thu, 20 Feb 2025) EndedAt: 2025-02-20 16:26:07 -0500 (Thu, 20 Feb 2025) EllapsedTime: 52.1 seconds RetCode: 0 Status: OK PackageFile: AMARETTO_1.23.0.tar.gz PackageFileSize: 3.225 MiB