Package: AMARETTO Version: 1.23.0 Command: /Library/Frameworks/R.framework/Resources/bin/R CMD INSTALL AMARETTO StartedAt: 2025-02-20 15:30:45 -0500 (Thu, 20 Feb 2025) EndedAt: 2025-02-20 15:31:31 -0500 (Thu, 20 Feb 2025) EllapsedTime: 46.5 seconds RetCode: 0 Status: OK