Package: AMARETTO Version: 1.23.0 Command: rm -rf AMARETTO.buildbin-libdir && mkdir AMARETTO.buildbin-libdir && /Users/biocbuild/BBS/utils/build-universal.sh AMARETTO_1.23.0.tar.gz /Library/Frameworks/R.framework/Resources/bin/R AMARETTO.buildbin-libdir StartedAt: 2025-02-21 00:18:54 -0500 (Fri, 21 Feb 2025) EndedAt: 2025-02-21 00:19:45 -0500 (Fri, 21 Feb 2025) EllapsedTime: 51.1 seconds RetCode: 0 Status: OK PackageFile: AMARETTO_1.23.0.tgz PackageFileSize: 3.432 MiB