Package: ALDEx2 Version: 1.39.0 Command: chmod a+r ALDEx2 -R && E:\biocbuild\bbs-3.21-bioc\R\bin\R.exe CMD build --keep-empty-dirs --no-resave-data ALDEx2 StartedAt: 2025-02-19 17:12:13 -0500 (Wed, 19 Feb 2025) EndedAt: 2025-02-19 17:14:52 -0500 (Wed, 19 Feb 2025) EllapsedTime: 158.7 seconds RetCode: 0 Status: OK PackageFile: ALDEx2_1.39.0.tar.gz PackageFileSize: 1.896 MiB