Package: ALDEx2 Version: 1.39.0 Command: /home/biocbuild/bbs-3.21-bioc/R/bin/R CMD check --install=check:ALDEx2.install-out.txt --library=/home/biocbuild/bbs-3.21-bioc/R/site-library --timings ALDEx2_1.39.0.tar.gz StartedAt: 2025-02-19 19:53:55 -0500 (Wed, 19 Feb 2025) EndedAt: 2025-02-19 19:59:10 -0500 (Wed, 19 Feb 2025) EllapsedTime: 314.6 seconds RetCode: 0 Status: OK CheckDir: ALDEx2.Rcheck Warnings: 0