Package: ALDEx2 Version: 1.39.0 Command: /home/biocbuild/R/R/bin/R CMD INSTALL ALDEx2 StartedAt: 2025-01-29 20:23:11 -0000 (Wed, 29 Jan 2025) EndedAt: 2025-01-29 20:23:44 -0000 (Wed, 29 Jan 2025) EllapsedTime: 32.7 seconds RetCode: 0 Status: OK