Package: ALDEx2 Version: 1.39.0 Command: /home/biocbuild/R/R/bin/R CMD build --keep-empty-dirs --no-resave-data ALDEx2 StartedAt: 2025-01-29 20:48:15 -0000 (Wed, 29 Jan 2025) EndedAt: 2025-01-29 20:50:18 -0000 (Wed, 29 Jan 2025) EllapsedTime: 123.1 seconds RetCode: 1 Status: ERROR PackageFile: None PackageFileSize: NA