Package: ALDEx2 Version: 1.39.0 Command: /Library/Frameworks/R.framework/Resources/bin/R CMD INSTALL ALDEx2 StartedAt: 2025-02-19 15:23:00 -0500 (Wed, 19 Feb 2025) EndedAt: 2025-02-19 15:23:10 -0500 (Wed, 19 Feb 2025) EllapsedTime: 9.8 seconds RetCode: 0 Status: OK