Package: AIMS Version: 1.39.0 Command: /Library/Frameworks/R.framework/Resources/bin/R CMD build --keep-empty-dirs --no-resave-data AIMS StartedAt: 2025-02-19 15:32:05 -0500 (Wed, 19 Feb 2025) EndedAt: 2025-02-19 15:32:12 -0500 (Wed, 19 Feb 2025) EllapsedTime: 7.1 seconds RetCode: 0 Status: OK PackageFile: AIMS_1.39.0.tar.gz PackageFileSize: 484.4 KiB