Package: AHMassBank Version: 1.7.0 Command: rm -rf AHMassBank.buildbin-libdir && mkdir AHMassBank.buildbin-libdir && E:\biocbuild\bbs-3.21-bioc\R\bin\R.exe CMD INSTALL --build --library=AHMassBank.buildbin-libdir AHMassBank_1.7.0.tar.gz StartedAt: 2025-02-20 07:13:49 -0500 (Thu, 20 Feb 2025) EndedAt: 2025-02-20 07:14:45 -0500 (Thu, 20 Feb 2025) EllapsedTime: 55.4 seconds RetCode: 0 Status: OK PackageFile: AHMassBank_1.7.0.zip PackageFileSize: 307.3 KiB