Package: AGDEX Version: 1.55.0 Command: /home/biocbuild/bbs-3.21-bioc/R/bin/R CMD INSTALL AGDEX StartedAt: 2025-02-19 15:28:54 -0500 (Wed, 19 Feb 2025) EndedAt: 2025-02-19 15:29:08 -0500 (Wed, 19 Feb 2025) EllapsedTime: 14.2 seconds RetCode: 0 Status: OK