Package: ADImpute Version: 1.17.0 Command: /Library/Frameworks/R.framework/Resources/bin/R CMD INSTALL ADImpute StartedAt: 2025-02-20 15:37:33 -0500 (Thu, 20 Feb 2025) EndedAt: 2025-02-20 15:37:38 -0500 (Thu, 20 Feb 2025) EllapsedTime: 5.6 seconds RetCode: 0 Status: OK