Package: ADImpute Version: 1.17.0 Command: /Library/Frameworks/R.framework/Resources/bin/R CMD check --install=check:ADImpute.install-out.txt --library=/Library/Frameworks/R.framework/Resources/library --no-vignettes --timings ADImpute_1.17.0.tar.gz StartedAt: 2025-02-20 18:45:29 -0500 (Thu, 20 Feb 2025) EndedAt: 2025-02-20 18:48:30 -0500 (Thu, 20 Feb 2025) EllapsedTime: 180.9 seconds RetCode: 0 Status: WARNINGS CheckDir: ADImpute.Rcheck Warnings: 1