Package: ADImpute Version: 1.17.0 Command: rm -rf ADImpute.buildbin-libdir && mkdir ADImpute.buildbin-libdir && /Users/biocbuild/BBS/utils/build-universal.sh ADImpute_1.17.0.tar.gz /Library/Frameworks/R.framework/Resources/bin/R ADImpute.buildbin-libdir StartedAt: 2025-02-21 00:18:23 -0500 (Fri, 21 Feb 2025) EndedAt: 2025-02-21 00:18:36 -0500 (Fri, 21 Feb 2025) EllapsedTime: 12.7 seconds RetCode: 0 Status: OK PackageFile: ADImpute_1.17.0.tgz PackageFileSize: 2.298 MiB