Package: ADAPT Version: 1.1.0 Command: /home/biocbuild/bbs-3.21-bioc/R/bin/R CMD check --install=check:ADAPT.install-out.txt --library=/home/biocbuild/bbs-3.21-bioc/R/site-library --timings ADAPT_1.1.0.tar.gz StartedAt: 2025-02-20 19:53:04 -0500 (Thu, 20 Feb 2025) EndedAt: 2025-02-20 19:55:25 -0500 (Thu, 20 Feb 2025) EllapsedTime: 141.3 seconds RetCode: 0 Status: OK CheckDir: ADAPT.Rcheck Warnings: 0