Package: ADAPT Version: 1.1.0 Command: /home/biocbuild/bbs-3.21-bioc/R/bin/R CMD build --keep-empty-dirs --no-resave-data ADAPT StartedAt: 2025-02-20 16:23:25 -0500 (Thu, 20 Feb 2025) EndedAt: 2025-02-20 16:24:19 -0500 (Thu, 20 Feb 2025) EllapsedTime: 54.1 seconds RetCode: 0 Status: OK PackageFile: ADAPT_1.1.0.tar.gz PackageFileSize: 385.2 KiB