Package: ADAPT Version: 1.1.0 Command: /Library/Frameworks/R.framework/Resources/bin/R CMD build --keep-empty-dirs --no-resave-data ADAPT StartedAt: 2025-02-20 15:50:03 -0500 (Thu, 20 Feb 2025) EndedAt: 2025-02-20 15:50:28 -0500 (Thu, 20 Feb 2025) EllapsedTime: 25.3 seconds RetCode: 1 Status: ERROR PackageFile: None PackageFileSize: NA