Package: ADAM Version: 1.23.0 Command: E:\biocbuild\bbs-3.21-bioc\R\bin\R.exe CMD check --no-multiarch --install=check:ADAM.install-out.txt --library=E:\biocbuild\bbs-3.21-bioc\R\library --no-vignettes --timings ADAM_1.23.0.tar.gz StartedAt: 2025-02-18 22:25:09 -0500 (Tue, 18 Feb 2025) EndedAt: 2025-02-18 22:29:05 -0500 (Tue, 18 Feb 2025) EllapsedTime: 236.3 seconds RetCode: 0 Status: OK CheckDir: ADAM.Rcheck Warnings: 0