Package: ADAM Version: 1.23.0 Command: /home/biocbuild/bbs-3.21-bioc/R/bin/R CMD INSTALL ADAM StartedAt: 2025-02-19 15:37:30 -0500 (Wed, 19 Feb 2025) EndedAt: 2025-02-19 15:38:01 -0500 (Wed, 19 Feb 2025) EllapsedTime: 31.4 seconds RetCode: 0 Status: OK