Package: ADAM Version: 1.23.0 Command: rm -rf ADAM.buildbin-libdir && mkdir ADAM.buildbin-libdir && /Users/biocbuild/BBS/utils/build-universal.sh ADAM_1.23.0.tar.gz /Library/Frameworks/R.framework/Resources/bin/R ADAM.buildbin-libdir StartedAt: 2025-02-19 22:12:39 -0500 (Wed, 19 Feb 2025) EndedAt: 2025-02-19 22:12:53 -0500 (Wed, 19 Feb 2025) EllapsedTime: 14.3 seconds RetCode: 0 Status: OK PackageFile: ADAM_1.23.0.tgz PackageFileSize: 397.8 KiB