Package: ACME Version: 2.63.0 Command: E:\biocbuild\bbs-3.21-bioc\R\bin\R.exe CMD INSTALL ACME StartedAt: 2025-02-19 15:24:59 -0500 (Wed, 19 Feb 2025) EndedAt: 2025-02-19 15:25:21 -0500 (Wed, 19 Feb 2025) EllapsedTime: 22.0 seconds RetCode: 0 Status: OK