Package: ACME Version: 2.63.0 Command: /home/biocbuild/bbs-3.21-bioc/R/bin/R CMD INSTALL ACME StartedAt: 2025-02-19 15:12:21 -0500 (Wed, 19 Feb 2025) EndedAt: 2025-02-19 15:12:26 -0500 (Wed, 19 Feb 2025) EllapsedTime: 5.1 seconds RetCode: 0 Status: OK