Package: ACME Version: 2.63.0 Command: rm -rf ACME.buildbin-libdir && mkdir ACME.buildbin-libdir && /Users/biocbuild/BBS/utils/build-universal.sh ACME_2.63.0.tar.gz /Library/Frameworks/R.framework/Resources/bin/R ACME.buildbin-libdir StartedAt: 2025-02-20 00:19:44 -0500 (Thu, 20 Feb 2025) EndedAt: 2025-02-20 00:20:04 -0500 (Thu, 20 Feb 2025) EllapsedTime: 19.6 seconds RetCode: 0 Status: OK PackageFile: ACME_2.63.0.tgz PackageFileSize: 10.16 MiB