Package: ACME Version: 2.63.0 Command: /Library/Frameworks/R.framework/Resources/bin/R CMD INSTALL ACME StartedAt: 2025-02-20 15:01:23 -0500 (Thu, 20 Feb 2025) EndedAt: 2025-02-20 15:01:25 -0500 (Thu, 20 Feb 2025) EllapsedTime: 2.3 seconds RetCode: 0 Status: OK