Package: ACME Version: 2.63.0 Command: /Library/Frameworks/R.framework/Resources/bin/R CMD check --install=check:ACME.install-out.txt --library=/Library/Frameworks/R.framework/Resources/library --no-vignettes --timings ACME_2.63.0.tar.gz StartedAt: 2025-02-20 17:58:32 -0500 (Thu, 20 Feb 2025) EndedAt: 2025-02-20 17:59:03 -0500 (Thu, 20 Feb 2025) EllapsedTime: 31.4 seconds RetCode: 0 Status: OK CheckDir: ACME.Rcheck Warnings: 0