Package: ACE Version: 1.25.0 Command: chmod a+r ACE -R && E:\biocbuild\bbs-3.21-bioc\R\bin\R.exe CMD build --keep-empty-dirs --no-resave-data ACE StartedAt: 2025-02-17 17:05:02 -0500 (Mon, 17 Feb 2025) EndedAt: 2025-02-17 17:06:09 -0500 (Mon, 17 Feb 2025) EllapsedTime: 67.3 seconds RetCode: 0 Status: OK PackageFile: ACE_1.25.0.tar.gz PackageFileSize: 835.8 KiB