Package: ACE Version: 1.25.0 Command: /home/biocbuild/bbs-3.21-bioc/R/bin/R CMD INSTALL ACE StartedAt: 2025-02-19 15:16:07 -0500 (Wed, 19 Feb 2025) EndedAt: 2025-02-19 15:16:24 -0500 (Wed, 19 Feb 2025) EllapsedTime: 16.8 seconds RetCode: 0 Status: OK